Workbook

Sheet سهام
A1: صندوق سرمایه‌گذاری تجارت شاخصی کاردان
A2: صورت وضعیت پرتفوی
A3: برای ماه منتهی به 1405/05/31
A4: -1 | B4: سرمایه گذاری ها
A5: -1-1 | C5: سرمایه گذاری در سهام و حق تقدم سهام
F6: 1405/04/31 | L6: تغییرات طی دوره | T6: 1405/05/31
L7: خرید طی دوره | P7: فروش طی دوره
A8: نام شرکت | E8: تعداد | H8: بهای تمام شده | J8: خالص ارزش فروش | L8: تعداد | N8: بهای تمام شده | P8: تعداد | R8: مبلغ فروش | T8: تعداد | V8: قیمت بازار هر سهم | X8: بهای تمام شده | Z8: خالص ارزش فروش | AB8: درصد به کل دارایی ها
A9: بانک‌اقتصادنوین‌ | E9: 67853162 | H9: 102914040061 | J9: 1.8751031e+11 | L9: 64800000 | N9: 198505667638 | P9: 0 | R9: 0 | T9: 132653162 | V9: 3390 | X9: 301419707699 | Z9: 4.4621808e+11 | AB9: =Z9/14296115652425*100 -> 3.121254
A10: پالایش نفت اصفهان | E10: 96203778 | H10: 358582581899 | J10: 8.9923436e+11 | L10: 0 | N10: 0 | P10: 0 | R10: 0 | T10: 96203778 | V10: 11300 | X10: 358582581899 | Z10: 1.0786994e+12 | AB10: =Z10/14296115652425*100 -> 7.5454019
A11: پالایش نفت بندرعباس | E11: 37450989 | H11: 178368018250 | J11: 4.1174934e+11 | L11: 10700000 | N11: 129707622282 | P11: 0 | R11: 0 | T11: 48150989 | V11: 12050 | X11: 308075640532 | Z11: 5.7573432e+11 | AB11: =Z11/14296115652425*100 -> 4.0272081
A12: پاکدیس | E12: 1706234 | H12: 15365756304 | J12: 1.8311973e+10 | L12: 0 | N12: 0 | P12: 0 | R12: 0 | T12: 1706234 | V12: 12400 | X12: 15365756304 | Z12: 2.0993756e+10 | AB12: =Z12/14296115652425*100 -> 0.14684937
A13: پتروشیمی پردیس | E13: 52179419 | H13: 242541189141 | J13: 5.4209547e+11 | L13: 0 | N13: 0 | P13: 0 | R13: 0 | T13: 52179419 | V13: 10490 | X13: 242541189141 | Z13: 5.43131e+11 | AB13: =Z13/14296115652425*100 -> 3.7991508
A14: پتروشیمی نوری | E14: 8614506 | H14: 218067768572 | J14: 4.1124023e+11 | L14: 5168704 | N14: 0 | P14: 0 | R14: 0 | T14: 13783210 | V14: 34390 | X14: 218067768572 | Z14: 4.7034054e+11 | AB14: =Z14/14296115652425*100 -> 3.2899883
A15: پدیده شیمی قرن | E15: 700000 | H15: 11146615641 | J15: 13565323170 | L15: 0 | N15: 0 | P15: -700000 | R15: 13968184851 | T15: 0 | V15: 0 | X15: 0 | Z15: 0 | AB15: =Z15/14296115652425*100 -> 0
A16: پست بانک ایران | E16: 92056591 | H16: 387147409049 | J16: 6.732126e+11 | L16: 0 | N16: 0 | P16: 0 | R16: 0 | T16: 92056591 | V16: 9780 | X16: 387147409049 | Z16: 8.9335404e+11 | AB16: =Z16/14296115652425*100 -> 6.2489284
A17: تایدواترخاورمیانه | E17: 22388235 | H17: 93731616851 | J17: 1.6483659e+11 | L17: 0 | N17: 0 | P17: 0 | R17: 0 | T17: 22388235 | V17: 7360 | X17: 93731616851 | Z17: 1.6350368e+11 | AB17: =Z17/14296115652425*100 -> 1.143693
A18: داروسازی‌ اکسیر | E18: 8528624 | H18: 82640112265 | J18: 1.8931055e+11 | L18: 2300000 | N18: 50042960068 | P18: 0 | R18: 0 | T18: 10828624 | V18: 27510 | X18: 132683072333 | Z18: 2.9559271e+11 | AB18: =Z18/14296115652425*100 -> 2.0676436
A19: داروسازی‌ فارابی‌ | E19: 27652778 | H19: 168306434603 | J19: 3.3503046e+11 | L19: 0 | N19: 0 | P19: 0 | R19: 0 | T19: 27652778 | V19: 17130 | X19: 168306434603 | Z19: 4.7003045e+11 | AB19: =Z19/14296115652425*100 -> 3.2878193
A20: ذغال‌سنگ‌ نگین‌ ط‌بس‌ | E20: 13340211 | H20: 141379357495 | J20: 1.3382699e+11 | L20: 6166067 | N20: 83001296738 | P20: 0 | R20: 0 | T20: 19506278 | V20: 14550 | X20: 224380654233 | Z20: 2.8162244e+11 | AB20: =Z20/14296115652425*100 -> 1.9699228
... A43: کنتورسازی‌ایران‌ | E43: 10200 | H43: 698446833 | J43: 4.6449012e+08 | L43: 0 | N43: 0 | P43: 0 | R43: 0 | T43: 10200 | V43: 45893 | X43: 698446833 | Z43: 4.6449012e+08 | AB43: =Z43/14296115652425*100 -> 0.0032490652
A44: کولان سل | E44: 219000 | H44: 5291854767 | J44: =5908580864.7-16 -> 5.9085808e+09 | L44: 0 | N44: 0 | P44: 0 | R44: 0 | T44: 219000 | V44: 27420 | X44: 5291854767 | Z44: 5.9585615e+09 | AB44: =Z44/14296115652425*100 -> 0.041679584
A45: احیا استیل فولاد بافت | E45: 0 | H45: 0 | J45: 0 | L45: 10666000 | N45: 37215819138 | P45: 0 | R45: 0 | T45: 10666000 | V45: 4170 | X45: 37215819138 | Z45: 4.4133411e+10 | AB45: =Z45/14296115652425*100 -> 0.30870911
A46: سرمایه گذاری تامین اجتماعی | E46: 0 | H46: 0 | J46: 0 | L46: 59053409 | N46: 155362649979 | P46: 0 | R46: 0 | T46: 59053409 | V46: 2883 | X46: 155362649979 | Z46: =168934938085.924-17 -> 1.6893494e+11 | AB46: =Z46/14296115652425*100 -> 1.1816842
A47: جمع | H47: 6504345607163 | J47: =SUM(J9:J46) -> 1.095086e+13 | N47: 832515432044 | R47: 557913744568 | X47: 6929773762469 | Z47: =SUM(Z9:Z46) -> 1.3808584e+13 | AB47: =SUM(AB9:AB46) -> 96.589763

Sheet تعدیل قیمت
A1: صندوق سرمایه‌گذاری تجارت شاخصی کاردان
A2: صورت وضعیت پرتفوی
A3: برای ماه منتهی به 1405/05/31
A4: اوراق بهاداری که ارزش آنها در تاریخ گزارش تعدیل شده
A5: (بر اساس دستورالعمل نحوه تعیین قیمت خرید و فروش اوراق بهادار در صندوق های سرمایه گذاری)
C7: 1405/05/31
A8: نام اوراق بهادار | C8: تعداد | E8: قیمت پایانی | G8: قیمت تعدیل شده | I8: درصد تعدیل | K8: خالص ارزش فروش تعدیل شده | M8: دلیل تعدیل
A9: فجر انرژی خلیج فارس | C9: 14456055 | E9: 11080 | G9: 3834 | I9: -0.654 | K9: 55424514870 | M9: سایر
A10: جمع | K10: 55424514870

Sheet سپرده
A1: صندوق سرمایه‌گذاری تجارت شاخصی کاردان
A2: صورت وضعیت پرتفوی
A3: برای ماه منتهی به 1405/05/31
A5: -4-1 | B5: سرمایه‌گذاری در سپرده‌ بانکی
D6: 1405/04/31 | F6: تغییرات طی دوره | J6: 1405/05/31
A8: سپرده های بانکی | D8: مبلغ | F8: افزایش | H8: کاهش | J8: مبلغ | L8: درصد به کل دارایی ها
A9: بانک تجارت | D9: 49750473921 | F9: 790538819494 | H9: 735800304015 | J9: 104488989400 | L9: =J9/14296115652425*100 -> 0.73089077
A10: سپرده کوتاه مدت بانک ملت پالایشگاه تهران | D10: 439587927 | F10: 211970750349 | H10: 212001125000 | J10: 409213276 | L10: =J10/14296115652425*100 -> 0.0028624088
A11: جمع | D11: 50190061848 | F11: 1002509569843 | H11: 947801429015 | J11: 104898202676 | L11: =SUM(L9:L10) -> 0.73375318

Sheet درآمد
A1: صندوق سرمایه‌گذاری تجارت شاخصی کاردان
A2: صورت وضعیت درآمدها
A3: برای ماه منتهی به 1405/05/31
A5: -2 | B5: درآمد حاصل از سرمایه گذاری ها
A7: شرح | D7: یادداشت | F7: مبلغ | H7: درصد از کل درآمدها | J7: درصد از کل دارایی ها
A8: درآمد حاصل از سرمایه گذاری در سهام و حق تقدم سهام | D8: 1-2 | F8: ='درآمد سرمایه گذاری در سهام'!J60 -> 2754353554353 | H8: =F8/$F$13*100 -> 99.9564 | J8: =F8/14296115652425*100 -> 19.266447
A9: درآمد حاصل از سرمایه گذاری در واحدهای صندوق های سرمایه گذاری | D9: 2-2 | F9: 0 | H9: =F9/$F$13*100 -> 0 | J9: =F9/14296115652425*100 -> 0
A10: درآمد حاصل از سرمایه گذاری در اوراق بهادار با درآمد ثابت | D10: 3-2 | F10: 0 | H10: =F10/$F$13*100 -> 0 | J10: =F10/14296115652425*100 -> 0
A11: درآمد حاصل از سرمایه گذاری در سپرده بانکی و گواهی سپرده | D11: 4-2 | F11: ='سود سپرده بانکی'!G10 -> 15977 | H11: =F11/$F$13*100 -> 5.798106e-07 | J11: =F11/14296115652425*100 -> 1.1175763e-07
A12: سایر درآمدها | D12: 5-2 | F12: ='سایر درآمدها'!D11 -> 1201415127 | H12: =F12/$F$13*100 -> 0.043599752 | J12: =F12/14296115652425*100 -> 0.0084037871
A13: جمع | F13: =SUM(F8:F12) -> 2755554985457 | H13: =SUM(H8:H12) -> 100 | J13: =SUM(J8:J12) -> 19.274851

Sheet درآمد سرمایه گذاری در سهام
A1: صندوق سرمایه‌گذاری تجارت شاخصی کاردان
A2: صورت وضعیت درآمدها
A3: برای ماه منتهی به 1405/05/31
A5: -1-2 | B5: درآمد حاصل از سرمایه­گذاری در سهام و حق تقدم سهام
D6: طی ماه | N6: از ابتدای سال مالی
J7: جمع | U7: جمع
A8: سهام | D8: درآمد سود سهام | F8: درآمد تغییر ارزش | H8: درآمد فروش | J8: مبلغ | L8: درصد از کل درآمدها | N8: درآمد سود سهام | P8: درآمد تغییر ارزش | S8: درآمد فروش | U8: مبلغ | W8: درصد از کل درآمدها
A9: ملی‌ صنایع‌ مس‌ ایران‌ | D9: 23410396545 | F9: 458446154347 | H9: 35108431756 | J9: =D9+F9+H9 -> 516964982648 | L9: =J9/درآمد!$F$13*100 -> 18.76083 | N9: 23410396545 | P9: 979671676262 | S9: 61320236478 | U9: 1064402309285 | W9: =U9/6670397594306*100 -> 15.957104
A10: پدیده شیمی قرن | D10: 0 | F10: 0 | H10: 402861681 | J10: =D10+F10+H10 -> 402861681 | L10: =J10/درآمد!$F$13*100 -> 0.014619983 | N10: 747970725 | P10: 0 | S10: 2821569210 | U10: 3569539935 | W10: =U10/6670397594306*100 -> 0.053513151
A11: سرمایه‌گذاری‌ سپه‌ | D11: 0 | F11: 0 | H11: 6214607226 | J11: =D11+F11+H11 -> 6214607226 | L11: =J11/درآمد!$F$13*100 -> 0.22553015 | N11: 0 | P11: 0 | S11: 59279081062 | U11: 59279081062 | W11: =U11/6670397594306*100 -> 0.88868887
A12: شیشه‌ همدان‌ | D12: 0 | F12: 0 | H12: 38974314084 | J12: =D12+F12+H12 -> 38974314084 | L12: =J12/درآمد!$F$13*100 -> 1.4143907 | N12: 0 | P12: 0 | S12: 67998788132 | U12: 67998788132 | W12: =U12/6670397594306*100 -> 1.0194113
A13: کولان سل | D13: 0 | F13: 49980640 | H13: 0 | J13: =D13+F13+H13 -> 49980640 | L13: =J13/درآمد!$F$13*100 -> 0.0018138139 | N13: 257763000 | P13: 666706737 | S13: 837746628 | U13: 1762216365 | W13: =U13/6670397594306*100 -> 0.026418461
A14: سرمایه گذاری گروه توسعه ملی | D14: 0 | F14: 0 | H14: 0 | J14: =D14+F14+H14 -> 0 | L14: =J14/درآمد!$F$13*100 -> 0 | N14: 0 | P14: 0 | S14: 5878009268 | U14: 5878009268 | W14: =U14/6670397594306*100 -> 0.088120823
A15: ح . سنگ آهن گهرزمین | D15: 0 | F15: 0 | H15: 0 | J15: =D15+F15+H15 -> 0 | L15: =J15/درآمد!$F$13*100 -> 0 | N15: 0 | P15: 0 | S15: 0 | U15: 0 | W15: =U15/6670397594306*100 -> 0
A16: نیان باتری خاوران | D16: 0 | F16: 0 | H16: 0 | J16: =D16+F16+H16 -> 0 | L16: =J16/درآمد!$F$13*100 -> 0 | N16: 0 | P16: 0 | S16: 91983471 | U16: 91983471 | W16: =U16/6670397594306*100 -> 0.0013789803
A17: ایران‌ خودرو | D17: 0 | F17: 0 | H17: 0 | J17: =D17+F17+H17 -> 0 | L17: =J17/درآمد!$F$13*100 -> 0 | N17: 0 | P17: 0 | S17: 22861217 | U17: 22861217 | W17: =U17/6670397594306*100 -> 0.00034272645
A18: دارویی‌ لقمان‌ | D18: 0 | F18: 0 | H18: 0 | J18: =D18+F18+H18 -> 0 | L18: =J18/درآمد!$F$13*100 -> 0 | N18: 0 | P18: 0 | S18: 586544136 | U18: 586544136 | W18: =U18/6670397594306*100 -> 0.008793241
A19: کارخانجات تولیدی نیروترانسفو | D19: 0 | F19: 0 | H19: 0 | J19: =D19+F19+H19 -> 0 | L19: =J19/درآمد!$F$13*100 -> 0 | N19: 0 | P19: 0 | S19: 4238680822 | U19: 4238680822 | W19: =U19/6670397594306*100 -> 0.06354465
A20: کیمیا کالای رازی | D20: 0 | F20: 0 | H20: 0 | J20: =D20+F20+H20 -> 0 | L20: =J20/درآمد!$F$13*100 -> 0 | N20: 0 | P20: 0 | S20: 2084704740 | U20: 2084704740 | W20: =U20/6670397594306*100 -> 0.031253081
... A49: پتروشیمی نوری | D49: 32828568289 | F49: 59100303965 | H49: 0 | J49: =D49+F49+H49 -> 91928872254 | L49: =J49/درآمد!$F$13*100 -> 3.3361291 | N49: 32828568289 | P49: 197491061878 | S49: 0 | U49: 230319630167 | W49: =U49/6670397594306*100 -> 3.4528621
A50: رهیاب پیام گستران | D50: 0 | F50: 0 | H50: 0 | J50: =D50+F50+H50 -> 0 | L50: =J50/درآمد!$F$13*100 -> 0 | N50: =229013860-2833 -> 229011027 | P50: -883934548 | S50: 0 | U50: =N50+P50+S50 -> -654923521 | W50: =U50/6670397594306*100 -> -0.0098183581
A51: پتروشیمی پردیس | D51: 0 | F51: 1035521441 | H51: 0 | J51: =D51+F51+H51 -> 1035521441 | L51: =J51/درآمد!$F$13*100 -> 0.037579415 | N51: 0 | P51: 3313668613 | S51: 0 | U51: 3313668613 | W51: =U51/6670397594306*100 -> 0.049677228
A52: سنگ آهن گهرزمین | D52: 0 | F52: 112414987795 | H52: 0 | J52: =D52+F52+H52 -> 112414987795 | L52: =J52/درآمد!$F$13*100 -> 4.079577 | N52: 0 | P52: 199938238261 | S52: 0 | U52: 199938238261 | W52: =U52/6670397594306*100 -> 2.9973961
A53: سرمایه گذاری تامین اجتماعی | D53: 0 | F53: 13572288106 | H53: 0 | J53: =D53+F53+H53 -> 13572288106 | L53: =J53/درآمد!$F$13*100 -> 0.49254282 | N53: 0 | P53: 13572288106 | S53: 0 | U53: 13572288106 | W53: =U53/6670397594306*100 -> 0.20347045
A54: قند لرستان‌ | D54: 0 | F54: 102399570433 | H54: 0 | J54: =D54+F54+H54 -> 102399570433 | L54: =J54/درآمد!$F$13*100 -> 3.7161142 | N54: 0 | P54: 160774291538 | S54: 0 | U54: 160774291538 | W54: =U54/6670397594306*100 -> 2.4102655
A55: احیا استیل فولاد بافت | D55: 0 | F55: 6917591951 | H55: 0 | J55: =D55+F55+H55 -> 6917591951 | L55: =J55/درآمد!$F$13*100 -> 0.2510417 | N55: 0 | P55: 6917591951 | S55: 0 | U55: 6917591951 | W55: =U55/6670397594306*100 -> 0.10370584
A56: نیروکلر | D56: 0 | F56: 119752121580 | H56: 0 | J56: =D56+F56+H56 -> 119752121580 | L56: =J56/درآمد!$F$13*100 -> 4.345844 | N56: 0 | P56: 278125598389 | S56: 0 | U56: 278125598389 | W56: =U56/6670397594306*100 -> 4.1695505
A57: کنتورسازی‌ایران‌ | D57: 0 | F57: 0 | H57: 0 | J57: =D57+F57+H57 -> 0 | L57: =J57/درآمد!$F$13*100 -> 0 | N57: 0 | P57: 92891951 | S57: 0 | U57: 92891951 | W57: =U57/6670397594306*100 -> 0.0013925999
A58: س. صنایع‌شیمیایی‌ایران | D58: 0 | F58: 39241643746 | H58: 0 | J58: =D58+F58+H58 -> 39241643746 | L58: =J58/درآمد!$F$13*100 -> 1.4240922 | N58: 0 | P58: 126329532024 | S58: 0 | U58: 126329532024 | W58: =U58/6670397594306*100 -> 1.8938831
A59: سرمایه‌گذاری‌غدیر(هلدینگ‌ | D59: 0 | F59: 109005497311 | H59: 0 | J59: =D59+F59+H59 -> 109005497311 | L59: =J59/درآمد!$F$13*100 -> 3.9558455 | N59: 0 | P59: 167984517338 | S59: 0 | U59: 167984517338 | W59: =U59/6670397594306*100 -> 2.5183584
A60: جمع | D60: =SUM(D9:D59) -> 171230939290 | F60: =SUM(F9:F59) -> 2502422400316 | H60: =SUM(H9:H59) -> 80700214747 | J60: =SUM(J9:J59) -> 2754353554353 | L60: =SUM(L9:L59) -> 99.9564 | N60: =SUM(N9:N59) -> 683165656231 | Q60: =SUM(P9:Q59) -> 5683862975456 | S60: =SUM(S9:S59) -> 298890665095 | U60: =SUM(U9:U59) -> 6665919296782 | W60: =SUM(W9:W59) -> 99.932863

Sheet درآمد سپرده بانکی
A1: صندوق سرمایه‌گذاری تجارت شاخصی کاردان
A2: صورت وضعیت درآمدها
A3: برای ماه منتهی به 1405/05/31
A5: -4-2 | B5: درآمد حاصل از سرمایه­گذاری در سپرده بانکی و گواهی سپرده
D6: طی ماه | H6: از ابتدای سال مالی
A7: نام سپرده بانکی | D7: سود سپرده بانکی و گواهی سپرده | F7: درصد سود به میانگین سپرده | H7: سود سپرده بانکی و گواهی سپرده | J7: درصد سود به میانگین سپرده
A8: بانک تجارت | D8: 0 | F8: =D8/D10*100 -> 0 | H8: 35004746 | J8: =H8/$H$10*100 -> 99.954378
A9: بانک ملت | D9: 15977 | F9: =D9/D10*100 -> 100 | H9: 15977 | J9: =H9/$H$10*100 -> 0.04562156
A10: جمع | D10: 15977 | F10: =SUM(F8:F9) -> 100 | H10: =SUM(H8:H9) -> 35020723 | J10: =SUM(J8:J9) -> 100

Sheet سایر درآمدها
A1: صندوق سرمایه‌گذاری تجارت شاخصی کاردان
A2: صورت وضعیت درآمدها
A3: برای ماه منتهی به 1405/05/31
A5: -5-2 | B5: سایر درآمدها
D6: طی ماه | F6: 1405/05/31
A7: سایر درآمدها | D7: مبلغ | F7: مبلغ
A8: سایر درآمدها | D8: 203395410 | F8: 2697063813
A9: معین برای سایر درآمدهای تنزیل سود بانک | D9: 0 | F9: 3231
A10: تعدیل کارمزد کارگزار | D10: 998019717 | F10: 1746206924
A11: جمع | D11: 1201415127 | F11: 4443273968

Sheet درآمد سود سهام
A1: صندوق سرمایه‌گذاری تجارت شاخصی کاردان
A2: صورت وضعیت درآمدها
A3: برای ماه منتهی به 1405/05/31
A5: درآمد سود سهام
A6: نام سهام | C6: اطلاعات مجمع | I6: طی ماه | O6: از ابتدای سال مالی
C7: تاریخ تشکیل مجمع | E7: تعداد سهام متعلقه در زمان مجمع | G7: سود متعلق به هر سهم | I7: جمع درآمد سود سهام | K7: هزینه تنزیل | M7: خالص درآمد سود سهام | O7: جمع درآمد سود سهام | Q7: هزینه تنزیل | S7: خالص درآمد سود سهام
A8: نفت‌ بهران‌ | C8: 1405/05/05 | E8: 15503689 | G8: 3000 | I8: 46511067000 | K8: 0 | M8: 46511067000 | O8: 46511067000 | Q8: 0 | S8: =O8-Q8 -> 46511067000
A9: تایدواترخاورمیانه | C9: 1405/04/29 | E9: 22388235 | G9: 850 | I9: 0 | K9: 0 | M9: 0 | O9: 19029999750 | Q9: 257162159 | S9: =O9-Q9 -> 18772837591
A10: بانک‌اقتصادنوین‌ | C10: 1405/04/30 | E10: 55360262 | G10: 126 | I10: 0 | K10: 0 | M10: 0 | O10: 6975393012 | Q10: 0 | S10: =O10-Q10 -> 6975393012
A11: سرمایه‌گذاری‌صندوق‌بازنشستگی‌ | C11: 1405/04/30 | E11: 19882424 | G11: 1840 | I11: 0 | K11: 0 | M11: 0 | O11: 36583660160 | Q11: 0 | S11: =O11-Q11 -> 36583660160
A12: ملی‌ صنایع‌ مس‌ ایران‌ | C12: 1405/04/31 | E12: 52913910 | G12: 450 | I12: 23811259500 | K12: 400862955 | M12: 23410396545 | O12: 23811259500 | Q12: 400862955 | S12: =O12-Q12 -> 23410396545
A13: گروه‌بهمن‌ | C13: 1405/04/31 | E13: 113063058 | G13: 250 | I13: 0 | K13: 0 | M13: 0 | O13: 28265764500 | Q13: 1537774753 | S13: =O13-Q13 -> 26727989747
A14: داروسازی‌ فارابی‌ | C14: 1405/04/30 | E14: 27652778 | G14: 930 | I14: 0 | K14: 0 | M14: 0 | O14: 25717083540 | Q14: 1508868215 | S14: =O14-Q14 -> 24208215325
A15: داروسازی‌ اکسیر | C15: 1405/04/07 | E15: 8528624 | G15: 940 | I15: 0 | K15: 0 | M15: 0 | O15: 8016906560 | Q15: 326575694 | S15: =O15-Q15 -> 7690330866
A16: سیمان‌ارومیه‌ | C16: 1405/03/20 | E16: 1590000 | G16: 28874 | I16: 0 | K16: 0 | M16: 0 | O16: 45909660000 | Q16: 0 | S16: =O16-Q16 -> 45909660000
A17: پالایش نفت اصفهان | C17: 1405/04/30 | E17: 96203778 | G17: 740 | I17: 0 | K17: 0 | M17: 0 | O17: 71190795720 | Q17: 771715943 | S17: =O17-Q17 -> 70419079777
A18: فولاد مبارکه اصفهان | C18: 1405/05/11 | E18: 267052810 | G18: 55 | I18: 14687904550 | K18: 169055096 | M18: 14518849454 | O18: 14687904550 | Q18: 169055096 | S18: =O18-Q18 -> 14518849454
A19: سیمان‌ صوفیان‌ | C19: 1405/03/19 | E19: 2535127 | G19: 27400 | I19: 0 | K19: 0 | M19: 0 | O19: 69462479800 | Q19: 0 | S19: =O19-Q19 -> 69462479800
... A32: کولان سل | C32: 1405/04/10 | E32: 219000 | G32: 1177 | I32: 0 | K32: 0 | M32: 0 | O32: 257763000 | Q32: 0 | S32: =O32-Q32 -> 257763000
A33: رهیاب پیام گستران | C33: 1405/04/31 | E33: 585000 | G33: 414 | I33: 0 | K33: 0 | M33: 0 | O33: =242190000-2833 -> 242187167 | Q33: 13176140 | S33: =O33-Q33 -> 229011027
A34: جمع | I34: 175427605071 | K34: 4196665781 | M34: 171230939290 | O34: =SUM(O8:O33) -> 696431298300 | Q34: 13265642069 | S34: =SUM(S8:S33) -> 683165656231

Sheet سود سپرده بانکی
A1: صندوق سرمایه‌گذاری تجارت شاخصی کاردان
A2: صورت وضعیت درآمدها
A3: برای ماه منتهی به 1405/05/31
A5: سود سپرده بانکی
A6: شرح | C6: طی ماه | I6: از ابتدای سال مالی
C7: درآمد سود | E7: هزینه تنزیل | G7: خالص درآمد | I7: درآمد سود | K7: هزینه تنزیل | M7: خالص درآمد
A8: بانک تجارت | C8: 0 | E8: 0 | G8: 0 | I8: 35004746 | K8: 0 | M8: 5817806
A9: بانک ملت | C9: 15977 | E9: 0 | G9: 15977 | I9: 15977 | K9: 0 | M9: 15977
A10: جمع | C10: 15977 | E10: 0 | G10: 15977 | I10: =SUM(I8:I9) -> 35020723 | K10: 0 | M10: 35020723

Sheet درآمد ناشی از فروش
A1: صندوق سرمایه‌گذاری تجارت شاخصی کاردان
A2: صورت وضعیت درآمدها
A3: برای ماه منتهی به 1405/05/31
A5: سود(زیان) حاصل از فروش اوراق بهادار
A6: شرح | C6: طی ماه | K6: از ابتدای سال مالی
C7: تعداد | E7: خالص بهای فروش | G7: ارزش دفتری | I7: سود و زیان ناشی از فروش | K7: تعداد | M7: خالص بهای فروش | O7: ارزش دفتری | Q7: سود و زیان ناشی از فروش
A8: ملی‌ صنایع‌ مس‌ ایران‌ | C8: 4190000 | E8: 78247980189 | G8: 43139548433 | I8: =E8-G8 -> 35108431756 | K8: 9390000 | M8: 177883795833 | O8: 116563559355 | Q8: 61320236478
A9: پدیده شیمی قرن | C9: 700000 | E9: 13968184851 | G9: 13565323170 | I9: =E9-G9 -> 402861681 | K9: 700000 | M9: 13968184851 | O9: 11146615641 | Q9: 2821569210
A10: سرمایه‌گذاری‌ سپه‌ | C10: 45010375 | E10: 198263119871 | G10: 192048512645 | I10: =E10-G10 -> 6214607226 | K10: 64860375 | M10: 301783809269 | O10: 242504728207 | Q10: 59279081062
A11: شیشه‌ همدان‌ | C11: 56570000 | E11: 267434459657 | G11: 228460145573 | I11: =E11-G11 -> 38974314084 | K11: 56570000 | M11: 267434459657 | O11: 199435671525 | Q11: 67998788132
A12: کولان سل | C12: 0 | E12: 0 | G12: 0 | I12: =E12-G12 -> 0 | K12: 219000 | M12: 6129601395 | O12: 5291854767 | Q12: 837746628
A13: سرمایه گذاری گروه توسعه ملی | C13: 0 | E13: 0 | G13: 0 | I13: =E13-G13 -> 0 | K13: 4388000 | M13: 38011125276 | O13: 32133116008 | Q13: 5878009268
A14: ح . سنگ آهن گهرزمین | C14: 0 | E14: 0 | G14: 0 | I14: =E14-G14 -> 0 | K14: 15867048 | M14: 67720560864 | O14: 67720560864 | Q14: 0
A15: نیان باتری خاوران | C15: 0 | E15: 0 | G15: 0 | I15: =E15-G15 -> 0 | K15: 257500 | M15: 4088152442 | O15: 3996168971 | Q15: 91983471
A16: ایران‌ خودرو | C16: 0 | E16: 0 | G16: 0 | I16: =E16-G16 -> 0 | K16: 2800000 | M16: 1569771182 | O16: 1546909965 | Q16: 22861217
A17: دارویی‌ لقمان‌ | C17: 0 | E17: 0 | G17: 0 | I17: =E17-G17 -> 0 | K17: 800000 | M17: 3006975020 | O17: 2420430884 | Q17: 586544136
A18: کارخانجات تولیدی نیروترانسفو | C18: 0 | E18: 0 | G18: 0 | I18: =E18-G18 -> 0 | K18: 750000 | M18: 10996039522 | O18: 6757358700 | Q18: 4238680822
A19: کیمیا کالای رازی | C19: 0 | E19: 0 | G19: 0 | I19: =E19-G19 -> 0 | K19: 401250 | M19: 6103614058 | O19: 4018909318 | Q19: 2084704740
... A30: سرمایه‌گذاری‌صندوق‌بازنشستگی‌ | C30: 0 | E30: 0 | G30: 0 | I30: =E30-G30 -> 0 | K30: 6400000 | M30: 98306174154 | O30: 86316376861 | Q30: 11989797293
A31: جمع | E31: =SUM(E8:E30) -> 557913744568 | G31: =SUM(G8:G30) -> 477213529821 | I31: =SUM(I8:I30) -> 80700214747 | M31: 1280809883717 | O31: 981919218622 | Q31: 298890665095

Sheet درآمد ناشی از تغییر قیمت اوراق
A1: صندوق سرمایه‌گذاری تجارت شاخصی کاردان
A2: صورت وضعیت درآمدها
A3: برای ماه منتهی به 1405/05/31
A5: درآمد ناشی از تغییر قیمت اوراق بهادار
A6: شرح | C6: طی ماه | K6: از ابتدای سال مالی
C7: تعداد | E7: خالص ارزش فروش | G7: ارزش دفتری | I7: سود و زیان ناشی از تغییر قیمت | K7: تعداد | M7: خالص ارزش فروش | O7: ارزش دفتری | Q7: سود و زیان ناشی از تغییر قیمت
A8: پتروشیمی پردیس | C8: 52179419 | E8: 543130996235 | G8: 542095474794 | I8: 1035521441 | K8: 52179419 | M8: 543130996235 | O8: 539817327622 | Q8: 3313668613
A9: فولاد مبارکه اصفهان | C9: 267052810 | E9: 671215849675 | G9: 345809981771 | I9: 325405867904 | K9: 267052810 | M9: 671215849675 | O9: 345809981771 | Q9: 325405867904
A10: کشت و دامداری فکا | C10: 28297305 | E10: 220697535302 | G10: 209149422059 | I10: 11548113243 | K10: 28297305 | M10: 220697535302 | O10: 189834671756 | Q10: 30862863546
A11: سیمان‌ صوفیان‌ | C11: 2883127 | E11: 460881392997 | G11: 473668361092 | I11: -12786968094 | K11: 2883127 | M11: 460881392997 | O11: 397045303028 | Q11: 63836089969
A12: گروه‌بهمن‌ | C12: 113063058 | E12: 274975436456 | G12: 191618949599 | I12: 83356486857 | K12: 113063058 | M12: 274975436456 | O12: 159532872558 | Q12: 115442563898
A13: پالایش نفت بندرعباس | C13: 48150989 | E13: 575734321353 | G13: 541456963115 | I13: 34277358238 | K13: 48150989 | M13: 575734321353 | O13: 391350267258 | Q13: 184384054095
A14: سنگ آهن گهرزمین | C14: 66641603 | E14: 446353628009 | G14: 333938640214 | I14: 112414987795 | K14: 66641603 | M14: 446353628009 | O14: 246415389748 | Q14: 199938238261
A15: زرین ذرت شاهرود | C15: 435000 | E15: 11395228680 | G15: 8887415095 | I15: 2507813585 | K15: 435000 | M15: 11395228680 | O15: 7458167394 | Q15: 3937061286
A16: شرکت صنایع غذایی مینو شرق | C16: 40779137 | E16: 325734509881 | G16: 314809253028 | I16: 10925256853 | K16: 40779137 | M16: 325734509881 | O16: 143582133070 | Q16: 182152376811
A17: سیمان‌ارومیه‌ | C17: 2029025 | E17: 389984081338 | G17: 380924483030 | I17: 9059598308 | K17: 2029025 | M17: 389984081338 | O17: 289427432288 | Q17: 100556649050
A18: بانک‌اقتصادنوین‌ | C18: 132653162 | E18: 446218082865 | G18: 386015977543 | I18: 60202105322 | K18: 132653162 | M18: 446218082865 | O18: 316487913654 | Q18: 129730169211
A19: داروسازی‌ فارابی‌ | C19: 27652778 | E19: 470030447306 | G19: 335030458938 | I19: 134999988368 | K19: 27652778 | M19: 470030447306 | O19: 180223780472 | Q19: 289806666834
... A41: کشت و صنعت هلال | C41: 125000 | E41: 6057808350 | G41: 5392987450 | I41: 664820899 | K41: 125000 | M41: 6057808350 | O41: 4912955600 | Q41: 1144852750
A42: سرمایه‌گذاری‌غدیر(هلدینگ‌ | C42: 20884919 | E42: =393124388589-1 -> 393124388588 | G42: 284118891278 | I42: =E42-G42 -> 109005497310 | K42: 20884919 | M42: =393124388589-1 -> 393124388588 | O42: 225139871251 | Q42: =M42-O42 -> 167984517337
A43: جمع | E43: =SUM(E8:E42) -> 13808584204087 | G43: 11306161803773 | I43: =SUM(I8:I42) -> 2502422400315 | M43: =SUM(M8:M42) -> 13808584204087 | O43: =SUM(O8:O42) -> 8124721228633 | Q43: =SUM(Q8:R42) -> 5683862975455
