Workbook

Sheet سهام
A1: صندوق سرمایه‌گذاری تجارت شاخصی کاردان
A2: صورت وضعیت پرتفوی
A3: برای ماه منتهی به 1405/06/31
A4: -1 | B4: سرمایه گذاری ها
A5: -1-1 | C5: سرمایه گذاری در سهام و حق تقدم سهام
F6: 1405/05/31 | L6: تغییرات طی دوره | T6: 1405/06/31
L7: خرید طی دوره | P7: فروش طی دوره
A8: نام شرکت | E8: تعداد | H8: بهای تمام شده | J8: خالص ارزش فروش | L8: تعداد | N8: بهای تمام شده | P8: تعداد | R8: مبلغ فروش | T8: تعداد | V8: قیمت بازار هر سهم | X8: بهای تمام شده | Z8: خالص ارزش فروش | AB8: درصد به کل دارایی ها
A9: احیا استیل فولاد بافت | E9: 10666000 | H9: 37215819138 | J9: 4.4133411e+10 | L9: 0 | N9: 0 | P9: 0 | R9: 0 | T9: 10666000 | V9: 4700 | X9: 37215819138 | Z9: 49742693554 | AB9: =Z9/16331345361887*100 -> 0.30458418
A10: بانک‌اقتصادنوین‌ | E10: 132653162 | H10: 301419707699 | J10: 4.4621808e+11 | L10: 0 | N10: 0 | P10: 0 | R10: 0 | T10: 132653162 | V10: 3680 | X10: 301419707699 | Z10: 4.8439013e+11 | AB10: =Z10/16331345361887*100 -> 2.9660149
A11: پالایش نفت اصفهان | E11: 96203778 | H11: 358582581899 | J11: 1.0786994e+12 | L11: 0 | N11: 0 | P11: 0 | R11: 0 | T11: 96203778 | V11: 12380 | X11: 358582581899 | Z11: 1.1817963e+12 | AB11: =Z11/16331345361887*100 -> 7.2363684
A12: پالایش نفت بندرعباس | E12: 48150989 | H12: 308075640532 | J12: 5.7573432e+11 | L12: 0 | N12: 0 | P12: 0 | R12: 0 | T12: 48150989 | V12: 14690 | X12: 308075640532 | Z12: 7.0187031e+11 | AB12: =Z12/16331345361887*100 -> 4.2976882
A13: پاکدیس | E13: 1706234 | H13: 15365756304 | J13: 2.0993756e+10 | L13: 0 | N13: 0 | P13: 0 | R13: 0 | T13: 1706234 | V13: 11660 | X13: 15365756304 | Z13: 1.9740902e+10 | AB13: =Z13/16331345361887*100 -> 0.12087738
A14: پتروشیمی پردیس | E14: 52179419 | H14: 242541189141 | J14: 5.43131e+11 | L14: 0 | N14: 0 | P14: 0 | R14: 0 | T14: 52179419 | V14: 13430 | X14: 242541189141 | Z14: 6.9535265e+11 | AB14: =Z14/16331345361887*100 -> 4.2577793
A15: پتروشیمی نوری | E15: 13783210 | H15: 218067768572 | J15: 4.7034054e+11 | L15: 0 | N15: 0 | P15: 0 | R15: 0 | T15: 13783210 | V15: 51160 | X15: 218067768572 | Z15: 6.9969822e+11 | AB15: =Z15/16331345361887*100 -> 4.2843881
A16: پست بانک ایران | E16: 92056591 | H16: 387147409049 | J16: 8.9335404e+11 | L16: 0 | N16: 0 | P16: 0 | R16: 0 | T16: 92056591 | V16: 9800 | X16: 387147409049 | Z16: 8.9518094e+11 | AB16: =Z16/16331345361887*100 -> 5.4813668
A17: تایدواترخاورمیانه | E17: 22388235 | H17: 93731616851 | J17: 1.6350368e+11 | L17: 0 | N17: 0 | P17: 0 | R17: 0 | T17: 22388235 | V17: 8240 | X17: 93731616851 | Z17: 1.8305303e+11 | AB17: =Z17/16331345361887*100 -> 1.1208693
A18: داروسازی‌ اکسیر | E18: 10828624 | H18: 132683072333 | J18: 2.9559271e+11 | L18: 0 | N18: 0 | P18: 0 | R18: 0 | T18: 10828624 | V18: 25220 | X18: 132683072333 | Z18: 2.7098685e+11 | AB18: =Z18/16331345361887*100 -> 1.6593051
A19: داروسازی‌ فارابی‌ | E19: 27652778 | H19: 168306434603 | J19: 4.7003045e+11 | L19: 0 | N19: 0 | P19: 0 | R19: 0 | T19: 27652778 | V19: 17230 | X19: 168306434603 | Z19: 4.7277435e+11 | AB19: =Z19/16331345361887*100 -> 2.8948892
A20: ذغال‌سنگ‌ نگین‌ ط‌بس‌ | E20: 19506278 | H20: 224380654233 | J20: 2.8162244e+11 | L20: 0 | N20: 0 | P20: 0 | R20: 0 | T20: 19506278 | V20: 18270 | X20: 224380654233 | Z20: 3.5362488e+11 | AB20: =Z20/16331345361887*100 -> 2.1653139
... A42: کنتورسازی‌ایران‌ | E42: 10200 | H42: 698446833 | J42: 4.6449012e+08 | L42: 0 | N42: 0 | P42: 0 | R42: 0 | T42: 10200 | V42: 45893 | X42: 698446833 | Z42: 4.6449012e+08 | AB42: =Z42/16331345361887*100 -> 0.0028441632
A43: کولان سل | E43: 219000 | H43: 5291854766 | J43: =5958561504.6-17 -> 5.9585615e+09 | L43: 0 | N43: 0 | P43: 0 | R43: 0 | T43: 219000 | V43: 30000 | X43: 5291854766 | Z43: 6519213900 | AB43: =Z43/16331345361887*100 -> 0.039918413
A44: صنایع دامپروری و لبنی رضوی | E44: 0 | H44: 0 | J44: 0 | L44: 3910000 | N44: 37635245184 | P44: 0 | R44: 0 | T44: 3910000 | V44: 11380 | X44: 37635245184 | Z44: 44151847466 | AB44: =Z44/16331345361887*100 -> 0.27035034
A45: غلتک سازان سپاهان | E45: 0 | H45: 0 | J45: 0 | L45: 3472213 | N45: 47069379070 | P45: 0 | R45: 0 | T45: 3472213 | V45: 13650 | X45: 47069379070 | Z45: 4.7029339e+10 | AB45: =Z45/16331345361887*100 -> 0.28796978
A46: تولید انرژی برق شمس پاسارگاد | E46: 0 | H46: 0 | J46: 0 | L46: 7160000 | N46: 80732965301 | P46: 0 | R46: 0 | T46: 7160000 | V46: 11510 | X46: 80732965301 | Z46: =81774558332-14 -> 81774558318 | AB46: =Z46/16331345361887*100 -> 0.50072151
A47: جمع | H47: =SUM(H9:H46) -> 6929773762468 | J47: =SUM(J9:J46) -> 1.3808584e+13 | N47: 165437589555 | R47: 154679515117 | T47: 1448133532 | X47: =SUM(X9:X46) -> 6929002143558 | Z47: =SUM(Z9:Z46) -> 1.5929351e+13 | AB47: =SUM(AB9:AB46) -> 97.538512

Sheet سپرده
A1: صندوق سرمایه‌گذاری تجارت شاخصی کاردان
A2: صورت وضعیت پرتفوی
A3: برای ماه منتهی به 1405/06/31
A5: -4-1 | B5: سرمایه‌گذاری در سپرده‌ بانکی
D6: 1405/05/31 | F6: تغییرات طی دوره | J6: 1405/06/31
A8: سپرده های بانکی | D8: مبلغ | F8: افزایش | H8: کاهش | J8: مبلغ | L8: درصد به کل دارایی ها
A9: بانک تجارت | D9: 104488989400 | F9: 205279818914 | H9: 307786830859 | J9: 1981977455 | L9: =J9/16331345361887*100 -> 0.012136033
A10: بانک ملت | D10: 409213276 | F10: 204223599503 | H10: 147000540000 | J10: 57632272779 | L10: =J10/16331345361887*100 -> 0.3528936
A11: جمع | D11: 104898202676 | F11: 409503418417 | H11: 454787370859 | J11: 59614250234 | L11: =SUM(L9:L10) -> 0.36502963

Sheet درآمد
A1: صندوق سرمایه‌گذاری تجارت شاخصی کاردان
A2: صورت وضعیت درآمدها
A3: برای ماه منتهی به 1405/06/31
A5: -2 | B5: درآمد حاصل از سرمایه گذاری ها
A7: شرح | D7: یادداشت | F7: مبلغ | H7: درصد از کل درآمدها | J7: درصد از کل دارایی ها
A8: درآمد حاصل از سرمایه گذاری در سهام و حق تقدم سهام | D8: 1-2 | F8: ='درآمد سرمایه گذاری در سهام'!J63 -> 2124079297728 | H8: =F8/$F$13*100 -> 99.993051 | J8: =F8/16331345361887*100 -> 13.00615
A9: درآمد حاصل از سرمایه گذاری در واحدهای صندوق های سرمایه گذاری | D9: 2-2 | F9: 0 | H9: =F9/$F$13*100 -> 0 | J9: =F9/16331345361887*100 -> 0
A10: درآمد حاصل از سرمایه گذاری در اوراق بهادار با درآمد ثابت | D10: 3-2 | F10: 0 | H10: =F10/$F$13*100 -> 0 | J10: =F10/16331345361887*100 -> 0
A11: درآمد حاصل از سرمایه گذاری در سپرده بانکی و گواهی سپرده | D11: 4-2 | F11: ='سود سپرده بانکی'!G10 -> 9536952 | H11: =F11/$F$13*100 -> 0.00044896108 | J11: =F11/16331345361887*100 -> 5.839661e-05
A12: سایر درآمدها | D12: 5-2 | F12: ='سایر درآمدها'!D11 -> 138070601 | H12: =F12/$F$13*100 -> 0.0064998047 | J12: =F12/16331345361887*100 -> 0.00084543311
A13: جمع | F13: =SUM(F8:F12) -> 2124226905281 | H13: =SUM(H8:H12) -> 100 | J13: =SUM(J8:J12) -> 13.007054

Sheet درآمد سرمایه گذاری در سهام
A1: صندوق سرمایه‌گذاری تجارت شاخصی کاردان
A2: صورت وضعیت درآمدها
A3: برای ماه منتهی به 1405/06/31
A5: -1-2 | B5: درآمد حاصل از سرمایه­گذاری در سهام و حق تقدم سهام
D6: طی ماه | N6: از ابتدای سال مالی
J7: جمع | U7: جمع
A8: سهام | D8: درآمد سود سهام | F8: درآمد تغییر ارزش | H8: درآمد فروش | J8: مبلغ | L8: درصد از کل درآمدها | N8: درآمد سود سهام | P8: درآمد تغییر ارزش | S8: درآمد فروش | U8: مبلغ | W8: درصد از کل درآمدها
A9: فجر انرژی خلیج فارس | D9: 0 | F9: 0 | H9: 99683431747 | J9: =D9+F9+H9 -> 99683431747 | L9: =J9/درآمد!$F$13*100 -> 4.6926923 | N9: 23824653725 | P9: 0 | S9: 99683431747 | U9: =N9+P9+S9 -> 123508085472 | W9: =U9/8801984361122*100 -> 1.4031846
A10: کولان سل | D10: 0 | F10: 560652395 | H10: 0 | J10: =D10+F10+H10 -> 560652395 | L10: =J10/درآمد!$F$13*100 -> 0.026393244 | N10: 257763000 | P10: 1227359133 | S10: 837746628 | U10: =N10+P10+S10 -> 2322868761 | W10: =U10/8801984361122*100 -> 0.026390285
A11: سرمایه گذاری گروه توسعه ملی | D11: 0 | F11: 0 | H11: 0 | J11: =D11+F11+H11 -> 0 | L11: =J11/درآمد!$F$13*100 -> 0 | N11: 0 | P11: 0 | S11: 5878009268 | U11: =N11+P11+S11 -> 5878009268 | W11: =U11/8801984361122*100 -> 0.066780501
A12: ح . سنگ آهن گهرزمین | D12: 0 | F12: 0 | H12: 0 | J12: =D12+F12+H12 -> 0 | L12: =J12/درآمد!$F$13*100 -> 0 | N12: 0 | P12: 0 | S12: 0 | U12: =N12+P12+S12 -> 0 | W12: =U12/8801984361122*100 -> 0
A13: شیشه‌ همدان‌ | D13: 0 | F13: 0 | H13: 0 | J13: =D13+F13+H13 -> 0 | L13: =J13/درآمد!$F$13*100 -> 0 | N13: 0 | P13: 0 | S13: 67998788132 | U13: =N13+P13+S13 -> 67998788132 | W13: =U13/8801984361122*100 -> 0.7725393
A14: آلومینیوم‌ایران‌ | D14: 0 | F14: 0 | H14: 0 | J14: =D14+F14+H14 -> 0 | L14: =J14/درآمد!$F$13*100 -> 0 | N14: 0 | P14: 0 | S14: 2489351267 | U14: =N14+P14+S14 -> 2489351267 | W14: =U14/8801984361122*100 -> 0.028281705
A15: زرین ذرت شاهرود | D15: 0 | F15: 2460333465 | H15: 0 | J15: =D15+F15+H15 -> 2460333465 | L15: =J15/درآمد!$F$13*100 -> 0.11582254 | N15: 0 | P15: 6397394751 | S15: 2214827988 | U15: =N15+P15+S15 -> 8612222739 | W15: =U15/8801984361122*100 -> 0.097844104
A16: پدیده شیمی قرن | D16: 0 | F16: 0 | H16: 0 | J16: =D16+F16+H16 -> 0 | L16: =J16/درآمد!$F$13*100 -> 0 | N16: 763722826 | P16: 0 | S16: 2821569210 | U16: =N16+P16+S16 -> 3585292036 | W16: =U16/8801984361122*100 -> 0.04073277
A17: سرمایه‌گذاری‌ سپه‌ | D17: 0 | F17: 0 | H17: 0 | J17: =D17+F17+H17 -> 0 | L17: =J17/درآمد!$F$13*100 -> 0 | N17: 0 | P17: 0 | S17: 59279081062 | U17: =N17+P17+S17 -> 59279081062 | W17: =U17/8801984361122*100 -> 0.67347406
A18: کشاورزی و دامپروری بینالود | D18: 0 | F18: 0 | H18: 0 | J18: =D18+F18+H18 -> 0 | L18: =J18/درآمد!$F$13*100 -> 0 | N18: 0 | P18: 0 | S18: 1765589848 | U18: =N18+P18+S18 -> 1765589848 | W18: =U18/8801984361122*100 -> 0.020058998
A19: سرمایه‌گذاری‌صندوق‌بازنشستگی‌ | D19: 0 | F19: 107324306772 | H19: 0 | J19: =D19+F19+H19 -> 107324306772 | L19: =J19/درآمد!$F$13*100 -> 5.0523937 | N19: 36583660160 | P19: 199418032059 | S19: 11989797293 | U19: =N19+P19+S19 -> 247991489512 | W19: =U19/8801984361122*100 -> 2.8174498
A20: نیان باتری خاوران | D20: 0 | F20: 0 | H20: 0 | J20: =D20+F20+H20 -> 0 | L20: =J20/درآمد!$F$13*100 -> 0 | N20: 0 | P20: 0 | S20: 91983471 | U20: =N20+P20+S20 -> 91983471 | W20: =U20/8801984361122*100 -> 0.0010450311
... A23: کشت و صنعت هلال | D23: 0 | F23: 349775174 | H23: 0 | J23: =D23+F23+H23 -> 349775174 | L23: =J23/درآمد!$F$13*100 -> 0.016465999 | N23: 249416667 | P23: 1494627925 | S23: 1329663140 | U23: =N23+P23+S23 -> 3073707732 | W23: =U23/8801984361122*100 -> 0.034920623
A24: ملی‌ صنایع‌ مس‌ ایران‌ | D24: ='درآمد سود سهام'!M12 -> 14070289050 | F24: 542056632931 | H24: 0 | J24: =D24+F24+H24 -> 556126921981 | L24: =J24/درآمد!$F$13*100 -> 26.180203 | N24: 37881548550 | P24: 1521728309193 | S24: 61320236478 | U24: =N24+P24+S24 -> 1620930094221 | W24: =U24/8801984361122*100 -> 18.415508
A25: صنعتی‌ بهشهر | D25: 0 | F25: 0 | H25: 0 | J25: =D25+F25+H25 -> 0 | L25: =J25/درآمد!$F$13*100 -> 0 | N25: 0 | P25: 0 | S25: 773500046 | U25: =N25+P25+S25 -> 773500046 | W25: =U25/8801984361122*100 -> 0.0087877916
A26: دارویی‌ لقمان‌ | D26: 0 | F26: 0 | H26: 0 | J26: =D26+F26+H26 -> 0 | L26: =J26/درآمد!$F$13*100 -> 0 | N26: 0 | P26: 0 | S26: 586544136 | U26: =N26+P26+S26 -> 586544136 | W26: =U26/8801984361122*100 -> 0.0066637716
A27: کارخانجات تولیدی نیروترانسفو | D27: 0 | F27: 0 | H27: 0 | J27: =D27+F27+H27 -> 0 | L27: =J27/درآمد!$F$13*100 -> 0 | N27: 0 | P27: 0 | S27: 4238680822 | U27: =N27+P27+S27 -> 4238680822 | W27: =U27/8801984361122*100 -> 0.048155969
A28: مجتمع کاشی و سنگ پرسپولیس یزد | D28: 0 | F28: 0 | H28: 0 | J28: =D28+F28+H28 -> 0 | L28: =J28/درآمد!$F$13*100 -> 0 | N28: 0 | P28: 0 | S28: 443206519 | U28: =N28+P28+S28 -> 443206519 | W28: =U28/8801984361122*100 -> 0.0050353023
A29: کشت وصنعت و دامپروری پگاه فارس | D29: 0 | F29: 0 | H29: 0 | J29: =D29+F29+H29 -> 0 | L29: =J29/درآمد!$F$13*100 -> 0 | N29: 0 | P29: 0 | S29: 2051855628 | U29: =N29+P29+S29 -> 2051855628 | W29: =U29/8801984361122*100 -> 0.023311285
A30: شرکت صنایع غذایی مینو شرق | D30: 0 | F30: 25492265991 | H30: 0 | J30: =D30+F30+H30 -> 25492265991 | L30: =J30/درآمد!$F$13*100 -> 1.2000726 | N30: 18215469931 | P30: 207644642802 | S30: 35200326182 | U30: =N30+P30+S30 -> 261060438915 | W30: =U30/8801984361122*100 -> 2.9659271
A31: دارویی ره آورد تامین | D31: 0 | F31: 0 | H31: 0 | J31: =D31+F31+H31 -> 0 | L31: =J31/درآمد!$F$13*100 -> 0 | N31: 0 | P31: 0 | S31: 16259818317 | U31: =N31+P31+S31 -> 16259818317 | W31: =U31/8801984361122*100 -> 0.18472901
A32: بانک‌اقتصادنوین‌ | D32: 0 | F32: 38172048387 | H32: 0 | J32: =D32+F32+H32 -> 38172048387 | L32: =J32/درآمد!$F$13*100 -> 1.7969854 | N32: 6975393012 | P32: 167902217598 | S32: 19212523703 | U32: =N32+P32+S32 -> 194090134313 | W32: =U32/8801984361122*100 -> 2.2050725
A33: نفت‌ بهران‌ | D33: 0 | F33: 18935978734 | H33: 0 | J33: =D33+F33+H33 -> 18935978734 | L33: =J33/درآمد!$F$13*100 -> 0.89142919 | N33: 46511067000 | P33: 335758698571 | S33: 0 | U33: =N33+P33+S33 -> 382269765571 | W33: =U33/8801984361122*100 -> 4.3429953
A34: تایدواترخاورمیانه | D34: 0 | F34: 19549353071 | H34: 0 | J34: =D34+F34+H34 -> 19549353071 | L34: =J34/درآمد!$F$13*100 -> 0.92030437 | N34: 19029999750 | P34: 73576656101 | S34: 0 | U34: =N34+P34+S34 -> 92606655851 | W34: =U34/8801984361122*100 -> 1.0521111
A35: گروه‌بهمن‌ | D35: 0 | F35: 5609454028 | H35: 0 | J35: =D35+F35+H35 -> 5609454028 | L35: =J35/درآمد!$F$13*100 -> 0.26407038 | N35: 28265764500 | P35: 121052017926 | S35: 0 | U35: =N35+P35+S35 -> 149317782426 | W35: =U35/8801984361122*100 -> 1.6964104
A36: داروسازی‌ فارابی‌ | D36: 0 | F36: 2743902203 | H36: 0 | J36: =D36+F36+H36 -> 2743902203 | L36: =J36/درآمد!$F$13*100 -> 0.1291718 | N36: 24701935506 | P36: 292550569037 | S36: 0 | U36: =N36+P36+S36 -> 317252504543 | W36: =U36/8801984361122*100 -> 3.6043293
... A62: صنایع دامپروری و لبنی رضوی | D62: 0 | F62: 6516603654 | H62: 0 | J62: =D62+F62+H62 -> 6516603654 | L62: =J62/درآمد!$F$13*100 -> 0.30677531 | N62: 0 | P62: 6516603654 | S62: 0 | U62: =N62+P62+S62 -> 6516603654 | W62: =U62/8801984361122*100 -> 0.07403562
A63: جمع | D63: =SUM(D9:D62) -> 14070289050 | F63: =SUM(F9:F62) -> 2010325576931 | H63: 99683431747 | J63: =SUM(J9:J62) -> 2124079297728 | L63: =SUM(L9:L62) -> 99.993051 | N63: =SUM(N9:N62) -> 704595812881 | Q63: =SUM(P9:Q62) -> 7694188552386 | S63: =SUM(S9:S62) -> 398574096842 | U63: =SUM(U9:U62) -> 8797358462109 | W63: =SUM(W9:W62) -> 99.947445

Sheet درآمد سپرده بانکی
A1: صندوق سرمایه‌گذاری تجارت شاخصی کاردان
A2: صورت وضعیت درآمدها
A3: برای ماه منتهی به 1405/06/31
A5: -4-2 | B5: درآمد حاصل از سرمایه­گذاری در سپرده بانکی و گواهی سپرده
D6: طی ماه | H6: از ابتدای سال مالی
A7: نام سپرده بانکی | D7: سود سپرده بانکی و گواهی سپرده | F7: درصد سود به میانگین سپرده | H7: سود سپرده بانکی و گواهی سپرده | J7: درصد سود به میانگین سپرده
A8: بانک تجارت | D8: 7799197 | F8: =D8/$D$10*100 -> 81.778717 | H8: 42800712 | J8: =H8/$H$10*100 -> 96.063845
A9: بانک ملت | D9: 1737755 | F9: =D9/$D$10*100 -> 18.221283 | H9: 1753732 | J9: =H9/$H$10*100 -> 3.9361551
A10: جمع | D10: 9536952 | F10: =SUM(F8:F9) -> 100 | H10: =SUM(H8:H9) -> 44554444 | J10: =SUM(J8:J9) -> 100

Sheet سایر درآمدها
A1: صندوق سرمایه‌گذاری تجارت شاخصی کاردان
A2: صورت وضعیت درآمدها
A3: برای ماه منتهی به 1405/06/31
A5: -5-2 | B5: سایر درآمدها
D6: طی ماه | F6: 1405/06/31
A7: سایر درآمدها | D7: مبلغ | F7: مبلغ
A8: سایر درآمدها | D8: -1412 | F8: 2697062401
A9: معین برای سایر درآمدهای تنزیل سود بانک | D9: 0 | F9: 3231
A10: تعدیل کارمزد کارگزار | D10: 138072013 | F10: 1884278937
A11: جمع | D11: 138070601 | F11: 4581344569

Sheet درآمد سود سهام
A1: صندوق سرمایه‌گذاری تجارت شاخصی کاردان
A2: صورت وضعیت درآمدها
A3: برای ماه منتهی به 1405/06/31
A5: درآمد سود سهام
A6: نام سهام | C6: اطلاعات مجمع | I6: طی ماه | O6: از ابتدای سال مالی
C7: تاریخ تشکیل مجمع | E7: تعداد سهام متعلقه در زمان مجمع | G7: سود متعلق به هر سهم | I7: جمع درآمد سود سهام | K7: هزینه تنزیل | M7: خالص درآمد سود سهام | O7: جمع درآمد سود سهام | Q7: هزینه تنزیل | S7: خالص درآمد سود سهام
A8: نفت‌ بهران‌ | C8: 1405/05/05 | E8: 15503689 | G8: 3000 | I8: 0 | K8: 0 | M8: 0 | O8: 46511067000 | Q8: 0 | S8: 46511067000
A9: تایدواترخاورمیانه | C9: 1405/04/29 | E9: 22388235 | G9: 850 | I9: 0 | K9: 0 | M9: 0 | O9: 19029999750 | Q9: 0 | S9: 19029999750
A10: بانک‌اقتصادنوین‌ | C10: 1405/04/30 | E10: 55360262 | G10: 126 | I10: 0 | K10: 0 | M10: 0 | O10: 6975393012 | Q10: 0 | S10: 6975393012
A11: سرمایه‌گذاری‌صندوق‌بازنشستگی‌ | C11: 1405/04/30 | E11: 19882424 | G11: 1840 | I11: 0 | K11: 0 | M11: 0 | O11: 36583660160 | Q11: 0 | S11: 36583660160
A12: ملی‌ صنایع‌ مس‌ ایران‌ | C12: 1405/04/31 | E12: 52913910 | G12: 450 | I12: 14070289050 | K12: 0 | M12: =I12-K12 -> 14070289050 | O12: =23811259500+I12 -> 37881548550 | Q12: 0 | S12: =O12-Q12 -> 37881548550
A13: گروه‌بهمن‌ | C13: 1405/04/31 | E13: 113063058 | G13: 250 | I13: 0 | K13: 0 | M13: 0 | O13: 28265764500 | Q13: 0 | S13: 28265764500
A14: داروسازی‌ فارابی‌ | C14: 1405/04/30 | E14: 27652778 | G14: 930 | I14: 0 | K14: 0 | M14: 0 | O14: 25717083540 | Q14: 1015148034 | S14: 24701935506
A15: داروسازی‌ اکسیر | C15: 1405/04/07 | E15: 8528624 | G15: 940 | I15: 0 | K15: 0 | M15: 0 | O15: 8016906560 | Q15: 166682833 | S15: 7850223727
A16: سیمان‌ارومیه‌ | C16: 1405/03/20 | E16: 1590000 | G16: 28874 | I16: 0 | K16: 0 | M16: 0 | O16: 45909660000 | Q16: 0 | S16: 45909660000
A17: پالایش نفت اصفهان | C17: 1405/04/30 | E17: 96203778 | G17: 740 | I17: 0 | K17: 0 | M17: 0 | O17: 71190795720 | Q17: 0 | S17: 71190795720
A18: فولاد مبارکه اصفهان | C18: 1405/05/11 | E18: 267052810 | G18: 55 | I18: 0 | K18: 0 | M18: 0 | O18: 14687904550 | Q18: 0 | S18: 14687904550
A19: سیمان‌ صوفیان‌ | C19: 1405/03/19 | E19: 2535127 | G19: 27400 | I19: 0 | K19: 0 | M19: 0 | O19: 69462479800 | Q19: 0 | S19: 69462479800
A20: ذغال‌سنگ‌ نگین‌ ط‌بس‌ | C20: 1405/04/29 | E20: 13340211 | G20: 800 | I20: 0 | K20: 0 | M20: 0 | O20: 10672168800 | Q20: 394222594 | S20: 10277946206
A21: معدنی‌ املاح‌ ایران‌ | C21: 1405/03/24 | E21: 14185143 | G21: 1910 | I21: 0 | K21: 0 | M21: 0 | O21: 27093623130 | Q21: 438171803 | S21: 26655451327
A22: کاشی‌ الوند | C22: 1405/04/31 | E22: 37252222 | G22: 350 | I22: 0 | K22: 0 | M22: 0 | O22: 13038277700 | Q22: 514668857 | S22: 12523608843
A23: پست بانک ایران | C23: 1405/04/29 | E23: 92056591 | G23: 1110 | I23: 0 | K23: 0 | M23: 0 | O23: 102182816010 | Q23: 0 | S23: 102182816010
A24: پالایش نفت بندرعباس | C24: 1405/05/18 | E24: 48150989 | G24: 1189 | I24: 0 | K24: 0 | M24: 0 | O24: 57251525921 | Q24: 2187475957 | S24: 55064049964
... A28: کشت و دامداری فکا | C28: 1405/04/24 | E28: 15705173 | G28: 650 | I28: 0 | K28: 0 | M28: 0 | O28: 10208362450 | Q28: 338025247 | S28: 9870337203
A29: پتروشیمی نوری | C29: 1405/05/18 | E29: 8614506 | G29: 3850 | I29: 0 | K29: 0 | M29: 0 | O29: =33165848100-2833 -> 33165845267 | Q29: 0 | S29: =O29-Q29 -> 33165845267
A30: پدیده شیمی قرن | C30: 1405/04/07 | E30: 700000 | G30: 1100 | I30: 0 | K30: 0 | M30: 0 | O30: 770000000 | Q30: 6277174 | S30: =O30-Q30 -> 763722826
A31: کشت و صنعت هلال | C31: 1405/04/21 | E31: 125000 | G31: 2050 | I31: 0 | K31: 0 | M31: 0 | O31: 256250000 | Q31: 6833333 | S31: 249416667
A32: کولان سل | C32: 1405/04/10 | E32: 219000 | G32: 1177 | I32: 0 | K32: 0 | M32: 0 | O32: 257763000 | Q32: 0 | S32: 257763000
A33: رهیاب پیام گستران | C33: 1405/04/31 | E33: 585000 | G33: 414 | I33: 0 | K33: 0 | M33: 0 | O33: 242190000 | Q33: 8483853 | S33: 233706147
A34: جمع | I34: =SUM(I8:I33) -> 14070289050 | K34: =SUM(K8:K33) -> 0 | M34: =SUM(M8:M33) -> 14070289050 | O34: =SUM(O8:O33) -> 710501587350 | Q34: =SUM(Q8:Q33) -> 5905774469 | S34: =SUM(S8:S33) -> 704595812881

Sheet سود سپرده بانکی
A1: صندوق سرمایه‌گذاری تجارت شاخصی کاردان
A2: صورت وضعیت درآمدها
A3: برای ماه منتهی به 1405/06/31
A5: سود سپرده بانکی
A6: شرح | C6: طی ماه | I6: از ابتدای سال مالی
C7: درآمد سود | E7: هزینه تنزیل | G7: خالص درآمد | I7: درآمد سود | K7: هزینه تنزیل | M7: خالص درآمد
A8: بانک تجارت | C8: 7799197 | G8: 7799197 | I8: 42803943 | K8: 3231 | M8: =I8-K8 -> 42800712
A9: بانک ملت | C9: 1737755 | E9: 0 | G9: 1737755 | I9: 1753732 | K9: 0 | M9: 1753732
A10: جمع | C10: =SUM(C8:C9) -> 9536952 | E10: 0 | G10: =SUM(G8:G9) -> 9536952 | I10: =SUM(I8:I9) -> 44557675 | K10: =SUM(K8:K9) -> 3231 | M10: =SUM(M8:M9) -> 44554444

Sheet درآمد ناشی از فروش
A1: صندوق سرمایه‌گذاری تجارت شاخصی کاردان
A2: صورت وضعیت درآمدها
A3: برای ماه منتهی به 1405/06/31
A5: سود(زیان) حاصل از فروش اوراق بهادار
A6: شرح | C6: طی ماه | K6: از ابتدای سال مالی
C7: تعداد | E7: خالص بهای فروش | G7: ارزش دفتری | I7: سود و زیان ناشی از فروش | K7: تعداد | M7: خالص بهای فروش | O7: ارزش دفتری | Q7: سود و زیان ناشی از فروش
A8: فجر انرژی خلیج فارس | C8: 14456055 | E8: 154679515117 | G8: 54996083370 | I8: 99683431747 | K8: 14456055 | M8: 154679515117 | O8: 54996083370 | Q8: 99683431747
A9: کولان سل | C9: 0 | E9: 0 | G9: 0 | I9: 0 | K9: 219000 | M9: 6129601395 | O9: 5291854767 | Q9: 837746628
A10: سرمایه گذاری گروه توسعه ملی | C10: 0 | E10: 0 | G10: 0 | I10: 0 | K10: 4388000 | M10: 38011125276 | O10: 32133116008 | Q10: 5878009268
A11: ح . سنگ آهن گهرزمین | C11: 0 | E11: 0 | G11: 0 | I11: 0 | K11: 15867048 | M11: 67720560864 | O11: 67720560864 | Q11: 0
A12: شیشه‌ همدان‌ | C12: 0 | E12: 0 | G12: 0 | I12: 0 | K12: 56570000 | M12: 267434459657 | O12: 199435671525 | Q12: 67998788132
A13: آلومینیوم‌ایران‌ | C13: 0 | E13: 0 | G13: 0 | I13: 0 | K13: 800000 | M13: 7969912665 | O13: 5480561398 | Q13: 2489351267
A14: زرین ذرت شاهرود | C14: 0 | E14: 0 | G14: 0 | I14: 0 | K14: 435000 | M14: 9672995382 | O14: 7458167394 | Q14: 2214827988
A15: پدیده شیمی قرن | C15: 0 | E15: 0 | G15: 0 | I15: 0 | K15: 700000 | M15: 13968184851 | O15: 11146615641 | Q15: 2821569210
A16: سرمایه‌گذاری‌ سپه‌ | C16: 0 | E16: 0 | G16: 0 | I16: 0 | K16: 64860375 | M16: 301783809269 | O16: 242504728207 | Q16: 59279081062
A17: کشاورزی و دامپروری بینالود | C17: 0 | E17: 0 | G17: 0 | I17: 0 | K17: 400000 | M17: 4625130529 | O17: 2859540681 | Q17: 1765589848
A18: سرمایه‌گذاری‌صندوق‌بازنشستگی‌ | C18: 0 | E18: 0 | G18: 0 | I18: 0 | K18: 6400000 | M18: 98306174154 | O18: 86316376861 | Q18: 11989797293
A19: نیان باتری خاوران | C19: 0 | E19: 0 | G19: 0 | I19: 0 | K19: 257500 | M19: 4088152442 | O19: 3996168971 | Q19: 91983471
... A31: بانک‌اقتصادنوین‌ | C31: 0 | E31: 0 | G31: 0 | I31: 0 | K31: 14000000 | M31: 49048933150 | O31: 29836409447 | Q31: 19212523703
A32: جمع | E32: 154679515117 | G32: 54996083370 | I32: 99683431747 | M32: 1435489398834 | O32: 1036915301992 | Q32: 398574096842

Sheet درآمد ناشی از تغییر قیمت اوراق
A1: صندوق سرمایه‌گذاری تجارت شاخصی کاردان
A2: صورت وضعیت درآمدها
A3: برای ماه منتهی به 1405/06/31
A5: درآمد ناشی از تغییر قیمت اوراق بهادار
A6: شرح | C6: طی ماه | K6: از ابتدای سال مالی
C7: تعداد | E7: خالص ارزش فروش | G7: ارزش دفتری | I7: سود و زیان ناشی از تغییر قیمت | K7: تعداد | M7: خالص ارزش فروش | O7: ارزش دفتری | Q7: سود و زیان ناشی از تغییر قیمت
A8: داروسازی‌ اکسیر | C8: 10828624 | E8: 270986850534 | G8: 295592714440 | I8: -24605863905 | K8: 10828624 | M8: 270986850534 | O8: 122550939928 | Q8: 148435910606
A9: احیا استیل فولاد بافت | C9: 10666000 | E9: 49742693554 | G9: 44133411089 | I9: 5609282464 | K9: 10666000 | M9: 49742693554 | O9: 37215819138 | Q9: 12526874416
A10: پالایش نفت اصفهان | C10: 96203778 | E10: 1181796320215 | G10: 1078699387595 | I10: 103096932620 | K10: 96203778 | M10: 1181796320215 | O10: 494483436083 | Q10: 687312884132
A11: کنتورسازی‌ایران‌ | C11: 10200 | E11: 464490120 | G11: 464490120 | I11: 0 | K11: 10200 | M11: 464490120 | O11: 371598169 | Q11: 92891951
A12: رهیاب پیام گستران | C12: 585000 | E12: 3591417076 | G12: 3591417076 | I12: 0 | K12: 585000 | M12: 3591417076 | O12: 4475351625 | Q12: -883934548
A13: ذغال‌سنگ‌ نگین‌ ط‌بس‌ | C13: 19506278 | E13: 353624883986 | G13: 281622444553 | I13: 72002439433 | K13: 19506278 | M13: 353624883986 | O13: 224380654233 | Q13: 129244229753
A14: سیمان‌ صوفیان‌ | C14: 2883127 | E14: 460309224911 | G14: 460881392997 | I14: -572168085 | K14: 2883127 | M14: 460309224911 | O14: 397045303028 | Q14: 63263921883
A15: سیمان‌ارومیه‌ | C15: 2029025 | E15: 429646891882 | G15: 389984081338 | I15: 39662810544 | K15: 2029025 | M15: 429646891882 | O15: 289427432288 | Q15: 140219459594
A16: نفت‌ بهران‌ | C16: 54650504 | E16: 661365366147 | G16: 642429387413 | I16: 18935978734 | K16: 54650504 | M16: 661365366147 | O16: 325606667576 | Q16: 335758698571
A17: نیروکلر | C17: 26122298 | E17: 736397786601 | G17: 608869553230 | I17: 127528233371 | K17: 26122298 | M17: 736397786601 | O17: 330743954841 | Q17: 405653831760
A18: داروسازی‌ فارابی‌ | C18: 27652778 | E18: 472774349509 | G18: 470030447306 | I18: 2743902203 | K18: 27652778 | M18: 472774349509 | O18: 180223780472 | Q18: 292550569037
A19: زرین ذرت شاهرود | C19: 1450000 | E19: 13855562145 | G19: 11395228680 | I19: 2460333465 | K19: 1450000 | M19: 13855562145 | O19: 7458167394 | Q19: 6397394751
... A43: پالایش نفت بندرعباس | C43: 48150989 | E43: 701870305450 | G43: 575734321353 | I43: 126135984097 | K43: 48150989 | M43: 701870305450 | O43: 391350267258 | Q43: 310520038192
A44: صنایع دامپروری و لبنی رضوی | C44: 3910000 | E44: 44151847466 | G44: =37635245184-1372 -> 37635243812 | I44: =E44-G44 -> 6516603654 | K44: 3910000 | M44: 44151847466 | O44: =37635245184-1372 -> 37635243812 | Q44: =M44-O44 -> 6516603654
A45: جمع | E45: 15929351285831 | G45: 13919025710273 | I45: =SUM(I8:I44) -> 2010325576931 | M45: 15929351285831 | O45: =SUM(O8:O44) -> 8235162733446 | Q45: =SUM(Q8:R44) -> 7694188552386
